BEGIN:VCALENDAR
VERSION:2.0
PRODID:-//KG Elferrat Rott von 1974 e.V. - ECPv6.15.20//NONSGML v1.0//EN
CALSCALE:GREGORIAN
METHOD:PUBLISH
X-WR-CALNAME:KG Elferrat Rott von 1974 e.V.
X-ORIGINAL-URL:https://kg-elferrat-rott.de
X-WR-CALDESC:Veranstaltungen für KG Elferrat Rott von 1974 e.V.
REFRESH-INTERVAL;VALUE=DURATION:PT1H
X-Robots-Tag:noindex
X-PUBLISHED-TTL:PT1H
BEGIN:VTIMEZONE
TZID:UTC
BEGIN:STANDARD
TZOFFSETFROM:+0000
TZOFFSETTO:+0000
TZNAME:UTC
DTSTART:20230101T000000
END:STANDARD
END:VTIMEZONE
BEGIN:VEVENT
DTSTART;TZID=UTC:20240313T163000
DTEND;TZID=UTC:20240313T190000
DTSTAMP:20260425T041701
CREATED:20240207T171457Z
LAST-MODIFIED:20240207T171457Z
UID:1300-1710347400-1710356400@kg-elferrat-rott.de
SUMMARY:Probetraining
DESCRIPTION:Infos und Kontakt: \nmail@kg-elferrat-rott.de \nOder bei Melanie Kauper und Simone Schaake. \nMittwoch 13.03.2024 & Mittwoch 20.03.2024 \nKinder / Jugend      16:30 – 17:30 Uhr \nJugend / Ü15          18:00 – 19:00Uhr \nIm Jugendhaus Rott\nQuirinusstr. 43\n52159 Roetgen/Rott
URL:https://kg-elferrat-rott.de/event/probetraining/
LOCATION:Jugendhaus Rott\, Quirinusstraße 43\, Roetgen Rott\, 52159\, Deutschland
END:VEVENT
END:VCALENDAR